BEGIN:VCALENDAR
VERSION:2.0
PRODID:-//eventon.com NONSGML v1.0//EN
CALSCALE:GREGORIAN
METHOD:PUBLISH
BEGIN:VEVENT
UID:69e29c1dcd162
DTSTAMP:20260417T204621Z
DTSTART:20260724T220000Z
DTEND:20260725T035000Z
LOCATION:
SUMMARY:Motel Soap at Old Mecklenburg Brewery - The Bowl at Ballentyne
DESCRIPTION:Motel Soap at Old Mecklenburg Brewery - The Bowl at Ballentyne\
 nhttps://www.motelsoap.band/events/motel-soap-at-old-mecklenburg-brewery/
URL:https://www.motelsoap.band/events/motel-soap-at-old-mecklenburg-brewery/
END:VEVENT
END:VCALENDAR